BEGIN:VCALENDAR
VERSION:2.0
PRODID:-//destination.one//NONSGML destination.meta API//DE
X-WR-CALDESC:A calendar powered by destination.meta
X-WR-CALNAME:wangerland Kalender via destination.meta
BEGIN:VEVENT
CATEGORIES:Bürgerangebote sonstige
CATEGORIES:Führung
CATEGORIES:Geführter Rundgang
DESCRIPTION:Ein historischer Rundgang durch den Sielort Horumersiel mit der
  erfahrenen Gästeführerin Ute Weers\n\nmehr Informationen unter http://pag
 es.destination.one/de/wangerland/streaming/detail/Event/e_101256852/dorfru
 ndgang-zum-kolkleuchten
DTEND;TZID=Europe/Berlin:20261024T183000
DTSTAMP:20260421T100209Z
DTSTART;TZID=Europe/Berlin:20261024T170000
GEO:53.685881;8.017445
LOCATION:Gästehaus Horumersiel\, Zum Hafen 3\, Wangerland Horumersiel
ORGANIZER;CN=Wangerland Touristik:mailto:info@wangerland.de
SEQUENCE:0
SUMMARY:Dorfrundgang zum Kolkleuchten
UID:e_101256852_iv0
URL:http://pages.destination.one/de/wangerland/streaming/detail/Event/e_101
 256852/dorfrundgang-zum-kolkleuchten
END:VEVENT
BEGIN:VTIMEZONE
TZID:Europe/Berlin
X-LIC-LOCATION:Europe/Berlin
BEGIN:DAYLIGHT
DTSTART:19700329T020000
RRULE:FREQ=YEARLY;BYDAY=-1SU;BYMONTH=3
TZNAME:CEST
TZOFFSETFROM:+0100
TZOFFSETTO:+0200
END:DAYLIGHT
BEGIN:STANDARD
DTSTART:19701025T030000
RRULE:FREQ=YEARLY;BYDAY=-1SU;BYMONTH=10
TZNAME:CET
TZOFFSETFROM:+0200
TZOFFSETTO:+0100
END:STANDARD
END:VTIMEZONE
END:VCALENDAR
