BEGIN:VCALENDAR
VERSION:2.0
PRODID:-//destination.one//NONSGML destination.meta API//DE
X-WR-CALDESC:A calendar powered by destination.meta
X-WR-CALNAME:wangerland Kalender via destination.meta
BEGIN:VEVENT
CATEGORIES:Konzert
DESCRIPTION:Die goldene Jahreszeit trifft auf großartige Musik: Die Herbste
 dition von LIVE HINTERM DEICH\n\nmehr Informationen unter http://pages.des
 tination.one/de/wangerland/streaming/detail/Event/e_101188790/live-hinterm
 -deich-adenalin-in-horumersiel
DTEND;TZID=Europe/Berlin:20261020T213000
DTSTAMP:20260424T083731Z
DTSTART;TZID=Europe/Berlin:20261020T190000
GEO:53.685881;8.017445
LOCATION:Gästehaus Horumersiel\, Zum Hafen 3\, Wangerland Horumersiel
ORGANIZER;CN=Wangerland Touristik:mailto:info@wangerland.de
SEQUENCE:0
SUMMARY:Live hinterm Deich - "Adenalin" in Horumersiel
UID:e_101188790_iv0
URL:http://pages.destination.one/de/wangerland/streaming/detail/Event/e_101
 188790/live-hinterm-deich-adenalin-in-horumersiel
END:VEVENT
BEGIN:VTIMEZONE
TZID:Europe/Berlin
X-LIC-LOCATION:Europe/Berlin
BEGIN:DAYLIGHT
DTSTART:19700329T020000
RRULE:FREQ=YEARLY;BYDAY=-1SU;BYMONTH=3
TZNAME:CEST
TZOFFSETFROM:+0100
TZOFFSETTO:+0200
END:DAYLIGHT
BEGIN:STANDARD
DTSTART:19701025T030000
RRULE:FREQ=YEARLY;BYDAY=-1SU;BYMONTH=10
TZNAME:CET
TZOFFSETFROM:+0200
TZOFFSETTO:+0100
END:STANDARD
END:VTIMEZONE
END:VCALENDAR
