BEGIN:VCALENDAR
VERSION:2.0
PRODID:-//destination.one//NONSGML destination.meta API//DE
X-WR-CALDESC:A calendar powered by destination.meta
X-WR-CALNAME:wangerland Kalender via destination.meta
BEGIN:VEVENT
CATEGORIES:Strandfest
DESCRIPTION:Sommer\, Sonne und Wasserspaß in Hooksiel beim Strandhaus 1.\n\
 nmehr Informationen unter http://pages.destination.one/de/wangerland/strea
 ming/detail/Event/e_101186578/nivea-dlrg-strandfest-hooksiel
DTEND;TZID=Europe/Berlin:20240819T170000
DTSTAMP:20260422T104713Z
DTSTART;TZID=Europe/Berlin:20240819T140000
GEO:53.645374;8.077942
LOCATION:Strandhaus 1\, Bäderstraße\, Wangerland Hooksiel
SEQUENCE:0
SUMMARY:Nivea/DLRG Strandfest - Hooksiel
UID:e_101186578_iv0
URL:http://pages.destination.one/de/wangerland/streaming/detail/Event/e_101
 186578/nivea-dlrg-strandfest-hooksiel
END:VEVENT
BEGIN:VEVENT
CATEGORIES:Strandfest
DESCRIPTION:Sommer\, Sonne und Wasserspaß in Hooksiel beim Strandhaus 1.\n\
 nmehr Informationen unter http://pages.destination.one/de/wangerland/strea
 ming/detail/Event/e_101186578/nivea-dlrg-strandfest-hooksiel
DTEND;TZID=Europe/Berlin:20250724T170000
DTSTAMP:20260422T104713Z
DTSTART;TZID=Europe/Berlin:20250724T140000
GEO:53.645374;8.077942
LOCATION:Strandhaus 1\, Bäderstraße\, Wangerland Hooksiel
SEQUENCE:0
SUMMARY:Nivea/DLRG Strandfest - Hooksiel
UID:e_101186578_iv1
URL:http://pages.destination.one/de/wangerland/streaming/detail/Event/e_101
 186578/nivea-dlrg-strandfest-hooksiel
END:VEVENT
BEGIN:VEVENT
CATEGORIES:Strandfest
DESCRIPTION:Sommer\, Sonne und Wasserspaß in Hooksiel beim Strandhaus 1.\n\
 nmehr Informationen unter http://pages.destination.one/de/wangerland/strea
 ming/detail/Event/e_101186578/nivea-dlrg-strandfest-hooksiel
DTEND;TZID=Europe/Berlin:20260724T170000
DTSTAMP:20260422T104713Z
DTSTART;TZID=Europe/Berlin:20260724T140000
GEO:53.645374;8.077942
LOCATION:Strandhaus 1\, Bäderstraße\, Wangerland Hooksiel
SEQUENCE:0
SUMMARY:Nivea/DLRG Strandfest - Hooksiel
UID:e_101186578_iv2
URL:http://pages.destination.one/de/wangerland/streaming/detail/Event/e_101
 186578/nivea-dlrg-strandfest-hooksiel
END:VEVENT
BEGIN:VTIMEZONE
TZID:Europe/Berlin
X-LIC-LOCATION:Europe/Berlin
BEGIN:DAYLIGHT
DTSTART:19700329T020000
RRULE:FREQ=YEARLY;BYDAY=-1SU;BYMONTH=3
TZNAME:CEST
TZOFFSETFROM:+0100
TZOFFSETTO:+0200
END:DAYLIGHT
BEGIN:STANDARD
DTSTART:19701025T030000
RRULE:FREQ=YEARLY;BYDAY=-1SU;BYMONTH=10
TZNAME:CET
TZOFFSETFROM:+0200
TZOFFSETTO:+0100
END:STANDARD
END:VTIMEZONE
END:VCALENDAR
