BEGIN:VCALENDAR
VERSION:2.0
PRODID:-//destination.one//NONSGML destination.meta API//DE
X-WR-CALDESC:A calendar powered by destination.meta
X-WR-CALNAME:wangerland Kalender via destination.meta
BEGIN:VEVENT
CATEGORIES:Strandfest
DESCRIPTION:Sommer\, Sonne und Wasserspaß am Strand von Schillig!\n\nmehr I
 nformationen unter http://pages.destination.one/de/wangerland/streaming/de
 tail/Event/e_101186576/nivea-dlrg-strandfest-schillig
DTEND;TZID=Europe/Berlin:20240812T170000
DTSTAMP:20260421T082444Z
DTSTART;TZID=Europe/Berlin:20240812T140000
GEO:53.701483;8.029633
LOCATION:Strandbad Schillig\, Schilliger Düne 1\, Wangerland Schillig
SEQUENCE:0
SUMMARY:Nivea/DLRG Strandfest - Schillig
UID:e_101186576_iv0
URL:http://pages.destination.one/de/wangerland/streaming/detail/Event/e_101
 186576/nivea-dlrg-strandfest-schillig
END:VEVENT
BEGIN:VEVENT
CATEGORIES:Strandfest
DESCRIPTION:Sommer\, Sonne und Wasserspaß am Strand von Schillig!\n\nmehr I
 nformationen unter http://pages.destination.one/de/wangerland/streaming/de
 tail/Event/e_101186576/nivea-dlrg-strandfest-schillig
DTEND;TZID=Europe/Berlin:20250729T170000
DTSTAMP:20260421T082444Z
DTSTART;TZID=Europe/Berlin:20250729T140000
GEO:53.701483;8.029633
LOCATION:Strandbad Schillig\, Schilliger Düne 1\, Wangerland Schillig
SEQUENCE:0
SUMMARY:Nivea/DLRG Strandfest - Schillig
UID:e_101186576_iv1
URL:http://pages.destination.one/de/wangerland/streaming/detail/Event/e_101
 186576/nivea-dlrg-strandfest-schillig
END:VEVENT
BEGIN:VEVENT
CATEGORIES:Strandfest
DESCRIPTION:Sommer\, Sonne und Wasserspaß am Strand von Schillig!\n\nmehr I
 nformationen unter http://pages.destination.one/de/wangerland/streaming/de
 tail/Event/e_101186576/nivea-dlrg-strandfest-schillig
DTEND;TZID=Europe/Berlin:20260731T170000
DTSTAMP:20260421T082444Z
DTSTART;TZID=Europe/Berlin:20260731T140000
GEO:53.701483;8.029633
LOCATION:Strandbad Schillig\, Schilliger Düne 1\, Wangerland Schillig
SEQUENCE:0
SUMMARY:Nivea/DLRG Strandfest - Schillig
UID:e_101186576_iv2
URL:http://pages.destination.one/de/wangerland/streaming/detail/Event/e_101
 186576/nivea-dlrg-strandfest-schillig
END:VEVENT
BEGIN:VTIMEZONE
TZID:Europe/Berlin
X-LIC-LOCATION:Europe/Berlin
BEGIN:DAYLIGHT
DTSTART:19700329T020000
RRULE:FREQ=YEARLY;BYDAY=-1SU;BYMONTH=3
TZNAME:CEST
TZOFFSETFROM:+0100
TZOFFSETTO:+0200
END:DAYLIGHT
BEGIN:STANDARD
DTSTART:19701025T030000
RRULE:FREQ=YEARLY;BYDAY=-1SU;BYMONTH=10
TZNAME:CET
TZOFFSETFROM:+0200
TZOFFSETTO:+0100
END:STANDARD
END:VTIMEZONE
END:VCALENDAR
