BEGIN:VCALENDAR
VERSION:2.0
PRODID:-//destination.one//NONSGML destination.meta API//DE
X-WR-CALDESC:A calendar powered by destination.meta
X-WR-CALNAME:wangerland Kalender via destination.meta
BEGIN:VEVENT
CATEGORIES:Party
DESCRIPTION:Große Silvesterparty im Gästehaus Horumersiel\n\nmehr Informati
 onen unter http://pages.destination.one/de/wangerland/streaming/detail/Eve
 nt/e_101186568/silvester-party-2026
DTEND;TZID=Europe/Berlin:20251231T235900
DTSTAMP:20260420T084436Z
DTSTART;TZID=Europe/Berlin:20251231T210000
GEO:53.685697;8.017756
LOCATION:Friesen-Event im Gästehaus Horumersiel\, Zum Hafen 3\, Wangerland
SEQUENCE:0
SUMMARY:Silvester Party 2026
UID:e_101186568_iv0
URL:http://pages.destination.one/de/wangerland/streaming/detail/Event/e_101
 186568/silvester-party-2026
END:VEVENT
BEGIN:VEVENT
CATEGORIES:Party
DESCRIPTION:Große Silvesterparty im Gästehaus Horumersiel\n\nmehr Informati
 onen unter http://pages.destination.one/de/wangerland/streaming/detail/Eve
 nt/e_101186568/silvester-party-2026
DTEND;TZID=Europe/Berlin:20261231T235900
DTSTAMP:20260420T084436Z
DTSTART;TZID=Europe/Berlin:20261231T210000
GEO:53.685697;8.017756
LOCATION:Friesen-Event im Gästehaus Horumersiel\, Zum Hafen 3\, Wangerland
SEQUENCE:0
SUMMARY:Silvester Party 2026
UID:e_101186568_iv1
URL:http://pages.destination.one/de/wangerland/streaming/detail/Event/e_101
 186568/silvester-party-2026
END:VEVENT
BEGIN:VTIMEZONE
TZID:Europe/Berlin
X-LIC-LOCATION:Europe/Berlin
BEGIN:DAYLIGHT
DTSTART:19700329T020000
RRULE:FREQ=YEARLY;BYDAY=-1SU;BYMONTH=3
TZNAME:CEST
TZOFFSETFROM:+0100
TZOFFSETTO:+0200
END:DAYLIGHT
BEGIN:STANDARD
DTSTART:19701025T030000
RRULE:FREQ=YEARLY;BYDAY=-1SU;BYMONTH=10
TZNAME:CET
TZOFFSETFROM:+0200
TZOFFSETTO:+0100
END:STANDARD
END:VTIMEZONE
END:VCALENDAR
