BEGIN:VCALENDAR
VERSION:2.0
PRODID:-//destination.one//NONSGML destination.meta API//DE
X-WR-CALDESC:A calendar powered by destination.meta
X-WR-CALNAME:wangerland Kalender via destination.meta
BEGIN:VEVENT
CATEGORIES:Ausstellung
CATEGORIES:Kunst und Kultur sonstige
CATEGORIES:Sonderausstellung
DESCRIPTION:Kreative Vielfalt unter freiem Himmel\n\nmehr Informationen unt
 er http://pages.destination.one/de/wangerland/streaming/detail/Event/e_101
 067873/kunst-am-alten-hafen
DTEND;TZID=Europe/Berlin:20250621T190000
DTSTAMP:20260421T093857Z
DTSTART;TZID=Europe/Berlin:20250621T110000
GEO:53.626833;8.026639
LOCATION:Galerie EinMalig.Anders.\, Schillhörn 2\, Wangerland Hooksiel
SEQUENCE:0
SUMMARY:Kunst am Alten Hafen
UID:e_101067873_iv0
URL:http://pages.destination.one/de/wangerland/streaming/detail/Event/e_101
 067873/kunst-am-alten-hafen
END:VEVENT
BEGIN:VEVENT
CATEGORIES:Ausstellung
CATEGORIES:Kunst und Kultur sonstige
CATEGORIES:Sonderausstellung
DESCRIPTION:Kreative Vielfalt unter freiem Himmel\n\nmehr Informationen unt
 er http://pages.destination.one/de/wangerland/streaming/detail/Event/e_101
 067873/kunst-am-alten-hafen
DTEND;TZID=Europe/Berlin:20250622T180000
DTSTAMP:20260421T093857Z
DTSTART;TZID=Europe/Berlin:20250622T110000
GEO:53.626833;8.026639
LOCATION:Galerie EinMalig.Anders.\, Schillhörn 2\, Wangerland Hooksiel
SEQUENCE:0
SUMMARY:Kunst am Alten Hafen
UID:e_101067873_iv1
URL:http://pages.destination.one/de/wangerland/streaming/detail/Event/e_101
 067873/kunst-am-alten-hafen
END:VEVENT
BEGIN:VEVENT
CATEGORIES:Ausstellung
CATEGORIES:Kunst und Kultur sonstige
CATEGORIES:Sonderausstellung
DESCRIPTION:Kreative Vielfalt unter freiem Himmel\n\nmehr Informationen unt
 er http://pages.destination.one/de/wangerland/streaming/detail/Event/e_101
 067873/kunst-am-alten-hafen
DTEND;TZID=Europe/Berlin:20260620T190000
DTSTAMP:20260421T093857Z
DTSTART;TZID=Europe/Berlin:20260620T110000
GEO:53.626833;8.026639
LOCATION:Galerie EinMalig.Anders.\, Schillhörn 2\, Wangerland Hooksiel
SEQUENCE:0
SUMMARY:Kunst am Alten Hafen
UID:e_101067873_iv2
URL:http://pages.destination.one/de/wangerland/streaming/detail/Event/e_101
 067873/kunst-am-alten-hafen
END:VEVENT
BEGIN:VEVENT
CATEGORIES:Ausstellung
CATEGORIES:Kunst und Kultur sonstige
CATEGORIES:Sonderausstellung
DESCRIPTION:Kreative Vielfalt unter freiem Himmel\n\nmehr Informationen unt
 er http://pages.destination.one/de/wangerland/streaming/detail/Event/e_101
 067873/kunst-am-alten-hafen
DTEND;TZID=Europe/Berlin:20260621T190000
DTSTAMP:20260421T093857Z
DTSTART;TZID=Europe/Berlin:20260621T110000
GEO:53.626833;8.026639
LOCATION:Galerie EinMalig.Anders.\, Schillhörn 2\, Wangerland Hooksiel
SEQUENCE:0
SUMMARY:Kunst am Alten Hafen
UID:e_101067873_iv3
URL:http://pages.destination.one/de/wangerland/streaming/detail/Event/e_101
 067873/kunst-am-alten-hafen
END:VEVENT
BEGIN:VTIMEZONE
TZID:Europe/Berlin
X-LIC-LOCATION:Europe/Berlin
BEGIN:DAYLIGHT
DTSTART:19700329T020000
RRULE:FREQ=YEARLY;BYDAY=-1SU;BYMONTH=3
TZNAME:CEST
TZOFFSETFROM:+0100
TZOFFSETTO:+0200
END:DAYLIGHT
BEGIN:STANDARD
DTSTART:19701025T030000
RRULE:FREQ=YEARLY;BYDAY=-1SU;BYMONTH=10
TZNAME:CET
TZOFFSETFROM:+0200
TZOFFSETTO:+0100
END:STANDARD
END:VTIMEZONE
END:VCALENDAR
