BEGIN:VCALENDAR
VERSION:2.0
PRODID:-//destination.one//NONSGML destination.meta API//DE
X-WR-CALDESC:A calendar powered by destination.meta
X-WR-CALNAME:wangerland Kalender via destination.meta
BEGIN:VEVENT
CATEGORIES:Themenführung
DESCRIPTION:Führung durch die Flussseeschwalbenkolonie\n\nmehr Informatione
 n unter http://pages.destination.one/de/wangerland/streaming/detail/Event/
 e_101062294/ein-leben-zwischen-afrika-und-wilhelmshaven
DTEND;TZID=Europe/Berlin:20250613T170000
DTSTAMP:20260422T091843Z
DTSTART;TZID=Europe/Berlin:20250613T160000
GEO:53.511853;8.105700
LOCATION:Flussseeschwalben Kolonie Banter See\, Banter See 1\, Wilhelmshave
 n
ORGANIZER;CN=UNESCO-Weltnaturerbe Wattenmeer Besucherzentrum Wilhelmshaven:
 mailto:service@wattenmeer-besucherzentrum.de
SEQUENCE:0
SUMMARY:"Ein Leben zwischen Afrika und Wilhelmshaven"
UID:e_101062294_iv0
URL:http://pages.destination.one/de/wangerland/streaming/detail/Event/e_101
 062294/ein-leben-zwischen-afrika-und-wilhelmshaven
END:VEVENT
BEGIN:VEVENT
CATEGORIES:Themenführung
DESCRIPTION:Führung durch die Flussseeschwalbenkolonie\n\nmehr Informatione
 n unter http://pages.destination.one/de/wangerland/streaming/detail/Event/
 e_101062294/ein-leben-zwischen-afrika-und-wilhelmshaven
DTEND;TZID=Europe/Berlin:20250710T120000
DTSTAMP:20260422T091843Z
DTSTART;TZID=Europe/Berlin:20250710T110000
GEO:53.511853;8.105700
LOCATION:Flussseeschwalben Kolonie Banter See\, Banter See 1\, Wilhelmshave
 n
ORGANIZER;CN=UNESCO-Weltnaturerbe Wattenmeer Besucherzentrum Wilhelmshaven:
 mailto:service@wattenmeer-besucherzentrum.de
SEQUENCE:0
SUMMARY:"Ein Leben zwischen Afrika und Wilhelmshaven"
UID:e_101062294_iv1
URL:http://pages.destination.one/de/wangerland/streaming/detail/Event/e_101
 062294/ein-leben-zwischen-afrika-und-wilhelmshaven
END:VEVENT
BEGIN:VEVENT
CATEGORIES:Themenführung
DESCRIPTION:Führung durch die Flussseeschwalbenkolonie\n\nmehr Informatione
 n unter http://pages.destination.one/de/wangerland/streaming/detail/Event/
 e_101062294/ein-leben-zwischen-afrika-und-wilhelmshaven
DTEND;TZID=Europe/Berlin:20250719T120000
DTSTAMP:20260422T091843Z
DTSTART;TZID=Europe/Berlin:20250719T110000
GEO:53.511853;8.105700
LOCATION:Flussseeschwalben Kolonie Banter See\, Banter See 1\, Wilhelmshave
 n
ORGANIZER;CN=UNESCO-Weltnaturerbe Wattenmeer Besucherzentrum Wilhelmshaven:
 mailto:service@wattenmeer-besucherzentrum.de
SEQUENCE:0
SUMMARY:"Ein Leben zwischen Afrika und Wilhelmshaven"
UID:e_101062294_iv2
URL:http://pages.destination.one/de/wangerland/streaming/detail/Event/e_101
 062294/ein-leben-zwischen-afrika-und-wilhelmshaven
END:VEVENT
BEGIN:VEVENT
CATEGORIES:Themenführung
DESCRIPTION:Führung durch die Flussseeschwalbenkolonie\n\nmehr Informatione
 n unter http://pages.destination.one/de/wangerland/streaming/detail/Event/
 e_101062294/ein-leben-zwischen-afrika-und-wilhelmshaven
DTEND;TZID=Europe/Berlin:20260430T160000
DTSTAMP:20260422T091843Z
DTSTART;TZID=Europe/Berlin:20260430T150000
GEO:53.511853;8.105700
LOCATION:Flussseeschwalben Kolonie Banter See\, Banter See 1\, Wilhelmshave
 n
ORGANIZER;CN=UNESCO-Weltnaturerbe Wattenmeer Besucherzentrum Wilhelmshaven:
 mailto:service@wattenmeer-besucherzentrum.de
SEQUENCE:0
SUMMARY:"Ein Leben zwischen Afrika und Wilhelmshaven"
UID:e_101062294_iv3
URL:http://pages.destination.one/de/wangerland/streaming/detail/Event/e_101
 062294/ein-leben-zwischen-afrika-und-wilhelmshaven
END:VEVENT
BEGIN:VTIMEZONE
TZID:Europe/Berlin
X-LIC-LOCATION:Europe/Berlin
BEGIN:DAYLIGHT
DTSTART:19700329T020000
RRULE:FREQ=YEARLY;BYDAY=-1SU;BYMONTH=3
TZNAME:CEST
TZOFFSETFROM:+0100
TZOFFSETTO:+0200
END:DAYLIGHT
BEGIN:STANDARD
DTSTART:19701025T030000
RRULE:FREQ=YEARLY;BYDAY=-1SU;BYMONTH=10
TZNAME:CET
TZOFFSETFROM:+0200
TZOFFSETTO:+0100
END:STANDARD
END:VTIMEZONE
END:VCALENDAR
