BEGIN:VCALENDAR
VERSION:2.0
PRODID:-//destination.one//NONSGML destination.meta API//DE
X-WR-CALDESC:A calendar powered by destination.meta
X-WR-CALNAME:wangerland Kalender via destination.meta
BEGIN:VEVENT
CATEGORIES:Musik sonstige
CATEGORIES:Party
DESCRIPTION:Strandparty mit Live-DJs in Hooksiel\n\nmehr Informationen unte
 r http://pages.destination.one/de/wangerland/streaming/detail/Event/e_1008
 92408/wave-sand
DTEND;TZID=Europe/Berlin:20240921T235900
DTSTAMP:20260420T084333Z
DTSTART;TZID=Europe/Berlin:20240921T150000
GEO:53.645374;8.077942
LOCATION:Strandhaus 1\, Bäderstraße\, Wangerland Hooksiel
ORGANIZER;CN=Wangerland Touristik:mailto:info@wangerland.de
SEQUENCE:0
SUMMARY:Wave & Sand
UID:e_100892408_iv0
URL:http://pages.destination.one/de/wangerland/streaming/detail/Event/e_100
 892408/wave-sand
END:VEVENT
BEGIN:VEVENT
CATEGORIES:Musik sonstige
CATEGORIES:Party
DESCRIPTION:Strandparty mit Live-DJs in Hooksiel\n\nmehr Informationen unte
 r http://pages.destination.one/de/wangerland/streaming/detail/Event/e_1008
 92408/wave-sand
DTEND;TZID=Europe/Berlin:20250913T235900
DTSTAMP:20260420T084333Z
DTSTART;TZID=Europe/Berlin:20250913T150000
GEO:53.645374;8.077942
LOCATION:Strandhaus 1\, Bäderstraße\, Wangerland Hooksiel
ORGANIZER;CN=Wangerland Touristik:mailto:info@wangerland.de
SEQUENCE:0
SUMMARY:Wave & Sand
UID:e_100892408_iv1
URL:http://pages.destination.one/de/wangerland/streaming/detail/Event/e_100
 892408/wave-sand
END:VEVENT
BEGIN:VEVENT
CATEGORIES:Musik sonstige
CATEGORIES:Party
DESCRIPTION:Strandparty mit Live-DJs in Hooksiel\n\nmehr Informationen unte
 r http://pages.destination.one/de/wangerland/streaming/detail/Event/e_1008
 92408/wave-sand
DTEND;TZID=Europe/Berlin:20260620T234500
DTSTAMP:20260420T084333Z
DTSTART;TZID=Europe/Berlin:20260620T150000
GEO:53.645374;8.077942
LOCATION:Strandhaus 1\, Bäderstraße\, Wangerland Hooksiel
ORGANIZER;CN=Wangerland Touristik:mailto:info@wangerland.de
SEQUENCE:0
SUMMARY:Wave & Sand
UID:e_100892408_iv2
URL:http://pages.destination.one/de/wangerland/streaming/detail/Event/e_100
 892408/wave-sand
END:VEVENT
BEGIN:VTIMEZONE
TZID:Europe/Berlin
X-LIC-LOCATION:Europe/Berlin
BEGIN:DAYLIGHT
DTSTART:19700329T020000
RRULE:FREQ=YEARLY;BYDAY=-1SU;BYMONTH=3
TZNAME:CEST
TZOFFSETFROM:+0100
TZOFFSETTO:+0200
END:DAYLIGHT
BEGIN:STANDARD
DTSTART:19701025T030000
RRULE:FREQ=YEARLY;BYDAY=-1SU;BYMONTH=10
TZNAME:CET
TZOFFSETFROM:+0200
TZOFFSETTO:+0100
END:STANDARD
END:VTIMEZONE
END:VCALENDAR
