BEGIN:VCALENDAR
VERSION:2.0
PRODID:-//destination.one//NONSGML destination.meta API//DE
X-WR-CALDESC:A calendar powered by destination.meta
X-WR-CALNAME:wangerland Kalender via destination.meta
BEGIN:VEVENT
CATEGORIES:Geführter Rundgang
CATEGORIES:Historische Führung
DESCRIPTION:Ein einstündiger historischer Rundgang durch Horumersiel mit ei
 ner erfahrenen Gästeführerin.\n\nmehr Informationen unter http://pages.des
 tination.one/de/wangerland/streaming/detail/Event/e_100859610/winterlicher
 -dorfrundgang-durch-horumersiel
DTEND;TZID=Europe/Berlin:20241230T180000
DTSTAMP:20260422T090213Z
DTSTART;TZID=Europe/Berlin:20241230T170000
GEO:53.685830;8.017058
LOCATION:Tourist-Information Horumersiel\, Zum Hafen 3\, Wangerland Horumer
 siel
ORGANIZER;CN=Wangerland Touristik:mailto:info@wangerland.de
SEQUENCE:0
SUMMARY:Winterlicher Dorfrundgang durch Horumersiel
UID:e_100859610_iv0
URL:http://pages.destination.one/de/wangerland/streaming/detail/Event/e_100
 859610/winterlicher-dorfrundgang-durch-horumersiel
END:VEVENT
BEGIN:VEVENT
CATEGORIES:Geführter Rundgang
CATEGORIES:Historische Führung
DESCRIPTION:Ein einstündiger historischer Rundgang durch Horumersiel mit ei
 ner erfahrenen Gästeführerin.\n\nmehr Informationen unter http://pages.des
 tination.one/de/wangerland/streaming/detail/Event/e_100859610/winterlicher
 -dorfrundgang-durch-horumersiel
DTEND;TZID=Europe/Berlin:20251228T183000
DTSTAMP:20260422T090213Z
DTSTART;TZID=Europe/Berlin:20251228T170000
GEO:53.685830;8.017058
LOCATION:Tourist-Information Horumersiel\, Zum Hafen 3\, Wangerland Horumer
 siel
ORGANIZER;CN=Wangerland Touristik:mailto:info@wangerland.de
SEQUENCE:0
SUMMARY:Winterlicher Dorfrundgang durch Horumersiel
UID:e_100859610_iv1
URL:http://pages.destination.one/de/wangerland/streaming/detail/Event/e_100
 859610/winterlicher-dorfrundgang-durch-horumersiel
END:VEVENT
BEGIN:VEVENT
CATEGORIES:Geführter Rundgang
CATEGORIES:Historische Führung
DESCRIPTION:Ein einstündiger historischer Rundgang durch Horumersiel mit ei
 ner erfahrenen Gästeführerin.\n\nmehr Informationen unter http://pages.des
 tination.one/de/wangerland/streaming/detail/Event/e_100859610/winterlicher
 -dorfrundgang-durch-horumersiel
DTEND;TZID=Europe/Berlin:20251229T183000
DTSTAMP:20260422T090213Z
DTSTART;TZID=Europe/Berlin:20251229T170000
GEO:53.685830;8.017058
LOCATION:Tourist-Information Horumersiel\, Zum Hafen 3\, Wangerland Horumer
 siel
ORGANIZER;CN=Wangerland Touristik:mailto:info@wangerland.de
SEQUENCE:0
SUMMARY:Winterlicher Dorfrundgang durch Horumersiel
UID:e_100859610_iv2
URL:http://pages.destination.one/de/wangerland/streaming/detail/Event/e_100
 859610/winterlicher-dorfrundgang-durch-horumersiel
END:VEVENT
BEGIN:VEVENT
CATEGORIES:Geführter Rundgang
CATEGORIES:Historische Führung
DESCRIPTION:Ein einstündiger historischer Rundgang durch Horumersiel mit ei
 ner erfahrenen Gästeführerin.\n\nmehr Informationen unter http://pages.des
 tination.one/de/wangerland/streaming/detail/Event/e_100859610/winterlicher
 -dorfrundgang-durch-horumersiel
DTEND;TZID=Europe/Berlin:20251230T183000
DTSTAMP:20260422T090213Z
DTSTART;TZID=Europe/Berlin:20251230T170000
GEO:53.685830;8.017058
LOCATION:Tourist-Information Horumersiel\, Zum Hafen 3\, Wangerland Horumer
 siel
ORGANIZER;CN=Wangerland Touristik:mailto:info@wangerland.de
SEQUENCE:0
SUMMARY:Winterlicher Dorfrundgang durch Horumersiel
UID:e_100859610_iv3
URL:http://pages.destination.one/de/wangerland/streaming/detail/Event/e_100
 859610/winterlicher-dorfrundgang-durch-horumersiel
END:VEVENT
BEGIN:VEVENT
CATEGORIES:Geführter Rundgang
CATEGORIES:Historische Führung
DESCRIPTION:Ein einstündiger historischer Rundgang durch Horumersiel mit ei
 ner erfahrenen Gästeführerin.\n\nmehr Informationen unter http://pages.des
 tination.one/de/wangerland/streaming/detail/Event/e_100859610/winterlicher
 -dorfrundgang-durch-horumersiel
DTEND;TZID=Europe/Berlin:20261228T183000
DTSTAMP:20260422T090213Z
DTSTART;TZID=Europe/Berlin:20261228T170000
GEO:53.685830;8.017058
LOCATION:Tourist-Information Horumersiel\, Zum Hafen 3\, Wangerland Horumer
 siel
ORGANIZER;CN=Wangerland Touristik:mailto:info@wangerland.de
SEQUENCE:0
SUMMARY:Winterlicher Dorfrundgang durch Horumersiel
UID:e_100859610_iv4
URL:http://pages.destination.one/de/wangerland/streaming/detail/Event/e_100
 859610/winterlicher-dorfrundgang-durch-horumersiel
END:VEVENT
BEGIN:VEVENT
CATEGORIES:Geführter Rundgang
CATEGORIES:Historische Führung
DESCRIPTION:Ein einstündiger historischer Rundgang durch Horumersiel mit ei
 ner erfahrenen Gästeführerin.\n\nmehr Informationen unter http://pages.des
 tination.one/de/wangerland/streaming/detail/Event/e_100859610/winterlicher
 -dorfrundgang-durch-horumersiel
DTEND;TZID=Europe/Berlin:20261229T183000
DTSTAMP:20260422T090213Z
DTSTART;TZID=Europe/Berlin:20261229T170000
GEO:53.685830;8.017058
LOCATION:Tourist-Information Horumersiel\, Zum Hafen 3\, Wangerland Horumer
 siel
ORGANIZER;CN=Wangerland Touristik:mailto:info@wangerland.de
SEQUENCE:0
SUMMARY:Winterlicher Dorfrundgang durch Horumersiel
UID:e_100859610_iv5
URL:http://pages.destination.one/de/wangerland/streaming/detail/Event/e_100
 859610/winterlicher-dorfrundgang-durch-horumersiel
END:VEVENT
BEGIN:VEVENT
CATEGORIES:Geführter Rundgang
CATEGORIES:Historische Führung
DESCRIPTION:Ein einstündiger historischer Rundgang durch Horumersiel mit ei
 ner erfahrenen Gästeführerin.\n\nmehr Informationen unter http://pages.des
 tination.one/de/wangerland/streaming/detail/Event/e_100859610/winterlicher
 -dorfrundgang-durch-horumersiel
DTEND;TZID=Europe/Berlin:20261230T183000
DTSTAMP:20260422T090213Z
DTSTART;TZID=Europe/Berlin:20261230T170000
GEO:53.685830;8.017058
LOCATION:Tourist-Information Horumersiel\, Zum Hafen 3\, Wangerland Horumer
 siel
ORGANIZER;CN=Wangerland Touristik:mailto:info@wangerland.de
SEQUENCE:0
SUMMARY:Winterlicher Dorfrundgang durch Horumersiel
UID:e_100859610_iv6
URL:http://pages.destination.one/de/wangerland/streaming/detail/Event/e_100
 859610/winterlicher-dorfrundgang-durch-horumersiel
END:VEVENT
BEGIN:VTIMEZONE
TZID:Europe/Berlin
X-LIC-LOCATION:Europe/Berlin
BEGIN:DAYLIGHT
DTSTART:19700329T020000
RRULE:FREQ=YEARLY;BYDAY=-1SU;BYMONTH=3
TZNAME:CEST
TZOFFSETFROM:+0100
TZOFFSETTO:+0200
END:DAYLIGHT
BEGIN:STANDARD
DTSTART:19701025T030000
RRULE:FREQ=YEARLY;BYDAY=-1SU;BYMONTH=10
TZNAME:CET
TZOFFSETFROM:+0200
TZOFFSETTO:+0100
END:STANDARD
END:VTIMEZONE
END:VCALENDAR
