BEGIN:VCALENDAR
VERSION:2.0
PRODID:-//destination.one//NONSGML destination.meta API//DE
X-WR-CALDESC:A calendar powered by destination.meta
X-WR-CALNAME:wangerland Kalender via destination.meta
BEGIN:VEVENT
CATEGORIES:Wattwanderung
DESCRIPTION:Familienwattwanderung für Hunde und Hundeliebhaber. Dies ist ei
 ne Wattwanderung für alle\, die ihren verträglichen und angeleinten Hund m
 itnehmen wollen. Aber auch ohne Vierbeiner sind alle herzlich willkommen.\
 n\nmehr Informationen unter http://pages.destination.one/de/wangerland/str
 eaming/detail/Event/e_100443430/wattwandern-mit-hund
DTEND;TZID=Europe/Berlin:20260324T120000
DTSTAMP:20260420T090530Z
DTSTART;TZID=Europe/Berlin:20260324T100000
GEO:53.703854;8.026867
LOCATION:Deich Nähe Hotel ''Upstalsboom''\, \, Wangerland Schillig
ORGANIZER;CN=Wattführergruppe Wangerland:mailto:kontakt@wangerland-wattwand
 ern.de
SEQUENCE:0
SUMMARY:Wattwandern mit Hund
UID:e_100443430_iv0
URL:http://pages.destination.one/de/wangerland/streaming/detail/Event/e_100
 443430/wattwandern-mit-hund
END:VEVENT
BEGIN:VEVENT
CATEGORIES:Wattwanderung
DESCRIPTION:Familienwattwanderung für Hunde und Hundeliebhaber. Dies ist ei
 ne Wattwanderung für alle\, die ihren verträglichen und angeleinten Hund m
 itnehmen wollen. Aber auch ohne Vierbeiner sind alle herzlich willkommen.\
 n\nmehr Informationen unter http://pages.destination.one/de/wangerland/str
 eaming/detail/Event/e_100443430/wattwandern-mit-hund
DTEND;TZID=Europe/Berlin:20260410T120000
DTSTAMP:20260420T090530Z
DTSTART;TZID=Europe/Berlin:20260410T100000
GEO:53.703854;8.026867
LOCATION:Deich Nähe Hotel ''Upstalsboom''\, \, Wangerland Schillig
ORGANIZER;CN=Wattführergruppe Wangerland:mailto:kontakt@wangerland-wattwand
 ern.de
SEQUENCE:0
SUMMARY:Wattwandern mit Hund
UID:e_100443430_iv1
URL:http://pages.destination.one/de/wangerland/streaming/detail/Event/e_100
 443430/wattwandern-mit-hund
END:VEVENT
BEGIN:VEVENT
CATEGORIES:Wattwanderung
DESCRIPTION:Familienwattwanderung für Hunde und Hundeliebhaber. Dies ist ei
 ne Wattwanderung für alle\, die ihren verträglichen und angeleinten Hund m
 itnehmen wollen. Aber auch ohne Vierbeiner sind alle herzlich willkommen.\
 n\nmehr Informationen unter http://pages.destination.one/de/wangerland/str
 eaming/detail/Event/e_100443430/wattwandern-mit-hund
DTEND;TZID=Europe/Berlin:20260422T120000
DTSTAMP:20260420T090530Z
DTSTART;TZID=Europe/Berlin:20260422T100000
GEO:53.703854;8.026867
LOCATION:Deich Nähe Hotel ''Upstalsboom''\, \, Wangerland Schillig
ORGANIZER;CN=Wattführergruppe Wangerland:mailto:kontakt@wangerland-wattwand
 ern.de
SEQUENCE:0
SUMMARY:Wattwandern mit Hund
UID:e_100443430_iv2
URL:http://pages.destination.one/de/wangerland/streaming/detail/Event/e_100
 443430/wattwandern-mit-hund
END:VEVENT
BEGIN:VEVENT
CATEGORIES:Wattwanderung
DESCRIPTION:Familienwattwanderung für Hunde und Hundeliebhaber. Dies ist ei
 ne Wattwanderung für alle\, die ihren verträglichen und angeleinten Hund m
 itnehmen wollen. Aber auch ohne Vierbeiner sind alle herzlich willkommen.\
 n\nmehr Informationen unter http://pages.destination.one/de/wangerland/str
 eaming/detail/Event/e_100443430/wattwandern-mit-hund
DTEND;TZID=Europe/Berlin:20260505T120000
DTSTAMP:20260420T090530Z
DTSTART;TZID=Europe/Berlin:20260505T100000
GEO:53.703854;8.026867
LOCATION:Deich Nähe Hotel ''Upstalsboom''\, \, Wangerland Schillig
ORGANIZER;CN=Wattführergruppe Wangerland:mailto:kontakt@wangerland-wattwand
 ern.de
SEQUENCE:0
SUMMARY:Wattwandern mit Hund
UID:e_100443430_iv3
URL:http://pages.destination.one/de/wangerland/streaming/detail/Event/e_100
 443430/wattwandern-mit-hund
END:VEVENT
BEGIN:VEVENT
CATEGORIES:Wattwanderung
DESCRIPTION:Familienwattwanderung für Hunde und Hundeliebhaber. Dies ist ei
 ne Wattwanderung für alle\, die ihren verträglichen und angeleinten Hund m
 itnehmen wollen. Aber auch ohne Vierbeiner sind alle herzlich willkommen.\
 n\nmehr Informationen unter http://pages.destination.one/de/wangerland/str
 eaming/detail/Event/e_100443430/wattwandern-mit-hund
DTEND;TZID=Europe/Berlin:20260516T180000
DTSTAMP:20260420T090530Z
DTSTART;TZID=Europe/Berlin:20260516T160000
GEO:53.703854;8.026867
LOCATION:Deich Nähe Hotel ''Upstalsboom''\, \, Wangerland Schillig
ORGANIZER;CN=Wattführergruppe Wangerland:mailto:kontakt@wangerland-wattwand
 ern.de
SEQUENCE:0
SUMMARY:Wattwandern mit Hund
UID:e_100443430_iv4
URL:http://pages.destination.one/de/wangerland/streaming/detail/Event/e_100
 443430/wattwandern-mit-hund
END:VEVENT
BEGIN:VEVENT
CATEGORIES:Wattwanderung
DESCRIPTION:Familienwattwanderung für Hunde und Hundeliebhaber. Dies ist ei
 ne Wattwanderung für alle\, die ihren verträglichen und angeleinten Hund m
 itnehmen wollen. Aber auch ohne Vierbeiner sind alle herzlich willkommen.\
 n\nmehr Informationen unter http://pages.destination.one/de/wangerland/str
 eaming/detail/Event/e_100443430/wattwandern-mit-hund
DTEND;TZID=Europe/Berlin:20260526T160000
DTSTAMP:20260420T090530Z
DTSTART;TZID=Europe/Berlin:20260526T140000
GEO:53.703854;8.026867
LOCATION:Deich Nähe Hotel ''Upstalsboom''\, \, Wangerland Schillig
ORGANIZER;CN=Wattführergruppe Wangerland:mailto:kontakt@wangerland-wattwand
 ern.de
SEQUENCE:0
SUMMARY:Wattwandern mit Hund
UID:e_100443430_iv5
URL:http://pages.destination.one/de/wangerland/streaming/detail/Event/e_100
 443430/wattwandern-mit-hund
END:VEVENT
BEGIN:VEVENT
CATEGORIES:Wattwanderung
DESCRIPTION:Familienwattwanderung für Hunde und Hundeliebhaber. Dies ist ei
 ne Wattwanderung für alle\, die ihren verträglichen und angeleinten Hund m
 itnehmen wollen. Aber auch ohne Vierbeiner sind alle herzlich willkommen.\
 n\nmehr Informationen unter http://pages.destination.one/de/wangerland/str
 eaming/detail/Event/e_100443430/wattwandern-mit-hund
DTEND;TZID=Europe/Berlin:20260605T120000
DTSTAMP:20260420T090530Z
DTSTART;TZID=Europe/Berlin:20260605T100000
GEO:53.703854;8.026867
LOCATION:Deich Nähe Hotel ''Upstalsboom''\, \, Wangerland Schillig
ORGANIZER;CN=Wattführergruppe Wangerland:mailto:kontakt@wangerland-wattwand
 ern.de
SEQUENCE:0
SUMMARY:Wattwandern mit Hund
UID:e_100443430_iv6
URL:http://pages.destination.one/de/wangerland/streaming/detail/Event/e_100
 443430/wattwandern-mit-hund
END:VEVENT
BEGIN:VEVENT
CATEGORIES:Wattwanderung
DESCRIPTION:Familienwattwanderung für Hunde und Hundeliebhaber. Dies ist ei
 ne Wattwanderung für alle\, die ihren verträglichen und angeleinten Hund m
 itnehmen wollen. Aber auch ohne Vierbeiner sind alle herzlich willkommen.\
 n\nmehr Informationen unter http://pages.destination.one/de/wangerland/str
 eaming/detail/Event/e_100443430/wattwandern-mit-hund
DTEND;TZID=Europe/Berlin:20260619T120000
DTSTAMP:20260420T090530Z
DTSTART;TZID=Europe/Berlin:20260619T100000
GEO:53.703854;8.026867
LOCATION:Deich Nähe Hotel ''Upstalsboom''\, \, Wangerland Schillig
ORGANIZER;CN=Wattführergruppe Wangerland:mailto:kontakt@wangerland-wattwand
 ern.de
SEQUENCE:0
SUMMARY:Wattwandern mit Hund
UID:e_100443430_iv7
URL:http://pages.destination.one/de/wangerland/streaming/detail/Event/e_100
 443430/wattwandern-mit-hund
END:VEVENT
BEGIN:VEVENT
CATEGORIES:Wattwanderung
DESCRIPTION:Familienwattwanderung für Hunde und Hundeliebhaber. Dies ist ei
 ne Wattwanderung für alle\, die ihren verträglichen und angeleinten Hund m
 itnehmen wollen. Aber auch ohne Vierbeiner sind alle herzlich willkommen.\
 n\nmehr Informationen unter http://pages.destination.one/de/wangerland/str
 eaming/detail/Event/e_100443430/wattwandern-mit-hund
DTEND;TZID=Europe/Berlin:20260703T113000
DTSTAMP:20260420T090530Z
DTSTART;TZID=Europe/Berlin:20260703T093000
GEO:53.703854;8.026867
LOCATION:Deich Nähe Hotel ''Upstalsboom''\, \, Wangerland Schillig
ORGANIZER;CN=Wattführergruppe Wangerland:mailto:kontakt@wangerland-wattwand
 ern.de
SEQUENCE:0
SUMMARY:Wattwandern mit Hund
UID:e_100443430_iv8
URL:http://pages.destination.one/de/wangerland/streaming/detail/Event/e_100
 443430/wattwandern-mit-hund
END:VEVENT
BEGIN:VEVENT
CATEGORIES:Wattwanderung
DESCRIPTION:Familienwattwanderung für Hunde und Hundeliebhaber. Dies ist ei
 ne Wattwanderung für alle\, die ihren verträglichen und angeleinten Hund m
 itnehmen wollen. Aber auch ohne Vierbeiner sind alle herzlich willkommen.\
 n\nmehr Informationen unter http://pages.destination.one/de/wangerland/str
 eaming/detail/Event/e_100443430/wattwandern-mit-hund
DTEND;TZID=Europe/Berlin:20260711T160000
DTSTAMP:20260420T090530Z
DTSTART;TZID=Europe/Berlin:20260711T140000
GEO:53.703854;8.026867
LOCATION:Deich Nähe Hotel ''Upstalsboom''\, \, Wangerland Schillig
ORGANIZER;CN=Wattführergruppe Wangerland:mailto:kontakt@wangerland-wattwand
 ern.de
SEQUENCE:0
SUMMARY:Wattwandern mit Hund
UID:e_100443430_iv9
URL:http://pages.destination.one/de/wangerland/streaming/detail/Event/e_100
 443430/wattwandern-mit-hund
END:VEVENT
BEGIN:VEVENT
CATEGORIES:Wattwanderung
DESCRIPTION:Familienwattwanderung für Hunde und Hundeliebhaber. Dies ist ei
 ne Wattwanderung für alle\, die ihren verträglichen und angeleinten Hund m
 itnehmen wollen. Aber auch ohne Vierbeiner sind alle herzlich willkommen.\
 n\nmehr Informationen unter http://pages.destination.one/de/wangerland/str
 eaming/detail/Event/e_100443430/wattwandern-mit-hund
DTEND;TZID=Europe/Berlin:20260717T120000
DTSTAMP:20260420T090530Z
DTSTART;TZID=Europe/Berlin:20260717T100000
GEO:53.703854;8.026867
LOCATION:Deich Nähe Hotel ''Upstalsboom''\, \, Wangerland Schillig
ORGANIZER;CN=Wattführergruppe Wangerland:mailto:kontakt@wangerland-wattwand
 ern.de
SEQUENCE:0
SUMMARY:Wattwandern mit Hund
UID:e_100443430_iv10
URL:http://pages.destination.one/de/wangerland/streaming/detail/Event/e_100
 443430/wattwandern-mit-hund
END:VEVENT
BEGIN:VEVENT
CATEGORIES:Wattwanderung
DESCRIPTION:Familienwattwanderung für Hunde und Hundeliebhaber. Dies ist ei
 ne Wattwanderung für alle\, die ihren verträglichen und angeleinten Hund m
 itnehmen wollen. Aber auch ohne Vierbeiner sind alle herzlich willkommen.\
 n\nmehr Informationen unter http://pages.destination.one/de/wangerland/str
 eaming/detail/Event/e_100443430/wattwandern-mit-hund
DTEND;TZID=Europe/Berlin:20260723T124500
DTSTAMP:20260420T090530Z
DTSTART;TZID=Europe/Berlin:20260723T104500
GEO:53.703854;8.026867
LOCATION:Deich Nähe Hotel ''Upstalsboom''\, \, Wangerland Schillig
ORGANIZER;CN=Wattführergruppe Wangerland:mailto:kontakt@wangerland-wattwand
 ern.de
SEQUENCE:0
SUMMARY:Wattwandern mit Hund
UID:e_100443430_iv11
URL:http://pages.destination.one/de/wangerland/streaming/detail/Event/e_100
 443430/wattwandern-mit-hund
END:VEVENT
BEGIN:VEVENT
CATEGORIES:Wattwanderung
DESCRIPTION:Familienwattwanderung für Hunde und Hundeliebhaber. Dies ist ei
 ne Wattwanderung für alle\, die ihren verträglichen und angeleinten Hund m
 itnehmen wollen. Aber auch ohne Vierbeiner sind alle herzlich willkommen.\
 n\nmehr Informationen unter http://pages.destination.one/de/wangerland/str
 eaming/detail/Event/e_100443430/wattwandern-mit-hund
DTEND;TZID=Europe/Berlin:20260729T220000
DTSTAMP:20260420T090530Z
DTSTART;TZID=Europe/Berlin:20260729T200000
GEO:53.703854;8.026867
LOCATION:Deich Nähe Hotel ''Upstalsboom''\, \, Wangerland Schillig
ORGANIZER;CN=Wattführergruppe Wangerland:mailto:kontakt@wangerland-wattwand
 ern.de
SEQUENCE:0
SUMMARY:Wattwandern mit Hund
UID:e_100443430_iv12
URL:http://pages.destination.one/de/wangerland/streaming/detail/Event/e_100
 443430/wattwandern-mit-hund
END:VEVENT
BEGIN:VEVENT
CATEGORIES:Wattwanderung
DESCRIPTION:Familienwattwanderung für Hunde und Hundeliebhaber. Dies ist ei
 ne Wattwanderung für alle\, die ihren verträglichen und angeleinten Hund m
 itnehmen wollen. Aber auch ohne Vierbeiner sind alle herzlich willkommen.\
 n\nmehr Informationen unter http://pages.destination.one/de/wangerland/str
 eaming/detail/Event/e_100443430/wattwandern-mit-hund
DTEND;TZID=Europe/Berlin:20260803T120000
DTSTAMP:20260420T090530Z
DTSTART;TZID=Europe/Berlin:20260803T100000
GEO:53.703854;8.026867
LOCATION:Deich Nähe Hotel ''Upstalsboom''\, \, Wangerland Schillig
ORGANIZER;CN=Wattführergruppe Wangerland:mailto:kontakt@wangerland-wattwand
 ern.de
SEQUENCE:0
SUMMARY:Wattwandern mit Hund
UID:e_100443430_iv13
URL:http://pages.destination.one/de/wangerland/streaming/detail/Event/e_100
 443430/wattwandern-mit-hund
END:VEVENT
BEGIN:VEVENT
CATEGORIES:Wattwanderung
DESCRIPTION:Familienwattwanderung für Hunde und Hundeliebhaber. Dies ist ei
 ne Wattwanderung für alle\, die ihren verträglichen und angeleinten Hund m
 itnehmen wollen. Aber auch ohne Vierbeiner sind alle herzlich willkommen.\
 n\nmehr Informationen unter http://pages.destination.one/de/wangerland/str
 eaming/detail/Event/e_100443430/wattwandern-mit-hund
DTEND;TZID=Europe/Berlin:20260811T173000
DTSTAMP:20260420T090530Z
DTSTART;TZID=Europe/Berlin:20260811T153000
GEO:53.703854;8.026867
LOCATION:Deich Nähe Hotel ''Upstalsboom''\, \, Wangerland Schillig
ORGANIZER;CN=Wattführergruppe Wangerland:mailto:kontakt@wangerland-wattwand
 ern.de
SEQUENCE:0
SUMMARY:Wattwandern mit Hund
UID:e_100443430_iv14
URL:http://pages.destination.one/de/wangerland/streaming/detail/Event/e_100
 443430/wattwandern-mit-hund
END:VEVENT
BEGIN:VEVENT
CATEGORIES:Wattwanderung
DESCRIPTION:Familienwattwanderung für Hunde und Hundeliebhaber. Dies ist ei
 ne Wattwanderung für alle\, die ihren verträglichen und angeleinten Hund m
 itnehmen wollen. Aber auch ohne Vierbeiner sind alle herzlich willkommen.\
 n\nmehr Informationen unter http://pages.destination.one/de/wangerland/str
 eaming/detail/Event/e_100443430/wattwandern-mit-hund
DTEND;TZID=Europe/Berlin:20260819T120000
DTSTAMP:20260420T090530Z
DTSTART;TZID=Europe/Berlin:20260819T100000
GEO:53.703854;8.026867
LOCATION:Deich Nähe Hotel ''Upstalsboom''\, \, Wangerland Schillig
ORGANIZER;CN=Wattführergruppe Wangerland:mailto:kontakt@wangerland-wattwand
 ern.de
SEQUENCE:0
SUMMARY:Wattwandern mit Hund
UID:e_100443430_iv15
URL:http://pages.destination.one/de/wangerland/streaming/detail/Event/e_100
 443430/wattwandern-mit-hund
END:VEVENT
BEGIN:VEVENT
CATEGORIES:Wattwanderung
DESCRIPTION:Familienwattwanderung für Hunde und Hundeliebhaber. Dies ist ei
 ne Wattwanderung für alle\, die ihren verträglichen und angeleinten Hund m
 itnehmen wollen. Aber auch ohne Vierbeiner sind alle herzlich willkommen.\
 n\nmehr Informationen unter http://pages.destination.one/de/wangerland/str
 eaming/detail/Event/e_100443430/wattwandern-mit-hund
DTEND;TZID=Europe/Berlin:20260828T210000
DTSTAMP:20260420T090530Z
DTSTART;TZID=Europe/Berlin:20260828T190000
GEO:53.703854;8.026867
LOCATION:Deich Nähe Hotel ''Upstalsboom''\, \, Wangerland Schillig
ORGANIZER;CN=Wattführergruppe Wangerland:mailto:kontakt@wangerland-wattwand
 ern.de
SEQUENCE:0
SUMMARY:Wattwandern mit Hund
UID:e_100443430_iv16
URL:http://pages.destination.one/de/wangerland/streaming/detail/Event/e_100
 443430/wattwandern-mit-hund
END:VEVENT
BEGIN:VEVENT
CATEGORIES:Wattwanderung
DESCRIPTION:Familienwattwanderung für Hunde und Hundeliebhaber. Dies ist ei
 ne Wattwanderung für alle\, die ihren verträglichen und angeleinten Hund m
 itnehmen wollen. Aber auch ohne Vierbeiner sind alle herzlich willkommen.\
 n\nmehr Informationen unter http://pages.destination.one/de/wangerland/str
 eaming/detail/Event/e_100443430/wattwandern-mit-hund
DTEND;TZID=Europe/Berlin:20260907T160000
DTSTAMP:20260420T090530Z
DTSTART;TZID=Europe/Berlin:20260907T140000
GEO:53.703854;8.026867
LOCATION:Deich Nähe Hotel ''Upstalsboom''\, \, Wangerland Schillig
ORGANIZER;CN=Wattführergruppe Wangerland:mailto:kontakt@wangerland-wattwand
 ern.de
SEQUENCE:0
SUMMARY:Wattwandern mit Hund
UID:e_100443430_iv17
URL:http://pages.destination.one/de/wangerland/streaming/detail/Event/e_100
 443430/wattwandern-mit-hund
END:VEVENT
BEGIN:VEVENT
CATEGORIES:Wattwanderung
DESCRIPTION:Familienwattwanderung für Hunde und Hundeliebhaber. Dies ist ei
 ne Wattwanderung für alle\, die ihren verträglichen und angeleinten Hund m
 itnehmen wollen. Aber auch ohne Vierbeiner sind alle herzlich willkommen.\
 n\nmehr Informationen unter http://pages.destination.one/de/wangerland/str
 eaming/detail/Event/e_100443430/wattwandern-mit-hund
DTEND;TZID=Europe/Berlin:20260921T160000
DTSTAMP:20260420T090530Z
DTSTART;TZID=Europe/Berlin:20260921T140000
GEO:53.703854;8.026867
LOCATION:Deich Nähe Hotel ''Upstalsboom''\, \, Wangerland Schillig
ORGANIZER;CN=Wattführergruppe Wangerland:mailto:kontakt@wangerland-wattwand
 ern.de
SEQUENCE:0
SUMMARY:Wattwandern mit Hund
UID:e_100443430_iv18
URL:http://pages.destination.one/de/wangerland/streaming/detail/Event/e_100
 443430/wattwandern-mit-hund
END:VEVENT
BEGIN:VEVENT
CATEGORIES:Wattwanderung
DESCRIPTION:Familienwattwanderung für Hunde und Hundeliebhaber. Dies ist ei
 ne Wattwanderung für alle\, die ihren verträglichen und angeleinten Hund m
 itnehmen wollen. Aber auch ohne Vierbeiner sind alle herzlich willkommen.\
 n\nmehr Informationen unter http://pages.destination.one/de/wangerland/str
 eaming/detail/Event/e_100443430/wattwandern-mit-hund
DTEND;TZID=Europe/Berlin:20260926T203000
DTSTAMP:20260420T090530Z
DTSTART;TZID=Europe/Berlin:20260926T183000
GEO:53.703854;8.026867
LOCATION:Deich Nähe Hotel ''Upstalsboom''\, \, Wangerland Schillig
ORGANIZER;CN=Wattführergruppe Wangerland:mailto:kontakt@wangerland-wattwand
 ern.de
SEQUENCE:0
SUMMARY:Wattwandern mit Hund
UID:e_100443430_iv19
URL:http://pages.destination.one/de/wangerland/streaming/detail/Event/e_100
 443430/wattwandern-mit-hund
END:VEVENT
BEGIN:VEVENT
CATEGORIES:Wattwanderung
DESCRIPTION:Familienwattwanderung für Hunde und Hundeliebhaber. Dies ist ei
 ne Wattwanderung für alle\, die ihren verträglichen und angeleinten Hund m
 itnehmen wollen. Aber auch ohne Vierbeiner sind alle herzlich willkommen.\
 n\nmehr Informationen unter http://pages.destination.one/de/wangerland/str
 eaming/detail/Event/e_100443430/wattwandern-mit-hund
DTEND;TZID=Europe/Berlin:20261004T120000
DTSTAMP:20260420T090530Z
DTSTART;TZID=Europe/Berlin:20261004T100000
GEO:53.703854;8.026867
LOCATION:Deich Nähe Hotel ''Upstalsboom''\, \, Wangerland Schillig
ORGANIZER;CN=Wattführergruppe Wangerland:mailto:kontakt@wangerland-wattwand
 ern.de
SEQUENCE:0
SUMMARY:Wattwandern mit Hund
UID:e_100443430_iv20
URL:http://pages.destination.one/de/wangerland/streaming/detail/Event/e_100
 443430/wattwandern-mit-hund
END:VEVENT
BEGIN:VEVENT
CATEGORIES:Wattwanderung
DESCRIPTION:Familienwattwanderung für Hunde und Hundeliebhaber. Dies ist ei
 ne Wattwanderung für alle\, die ihren verträglichen und angeleinten Hund m
 itnehmen wollen. Aber auch ohne Vierbeiner sind alle herzlich willkommen.\
 n\nmehr Informationen unter http://pages.destination.one/de/wangerland/str
 eaming/detail/Event/e_100443430/wattwandern-mit-hund
DTEND;TZID=Europe/Berlin:20261016T120000
DTSTAMP:20260420T090530Z
DTSTART;TZID=Europe/Berlin:20261016T100000
GEO:53.703854;8.026867
LOCATION:Deich Nähe Hotel ''Upstalsboom''\, \, Wangerland Schillig
ORGANIZER;CN=Wattführergruppe Wangerland:mailto:kontakt@wangerland-wattwand
 ern.de
SEQUENCE:0
SUMMARY:Wattwandern mit Hund
UID:e_100443430_iv21
URL:http://pages.destination.one/de/wangerland/streaming/detail/Event/e_100
 443430/wattwandern-mit-hund
END:VEVENT
BEGIN:VEVENT
CATEGORIES:Wattwanderung
DESCRIPTION:Familienwattwanderung für Hunde und Hundeliebhaber. Dies ist ei
 ne Wattwanderung für alle\, die ihren verträglichen und angeleinten Hund m
 itnehmen wollen. Aber auch ohne Vierbeiner sind alle herzlich willkommen.\
 n\nmehr Informationen unter http://pages.destination.one/de/wangerland/str
 eaming/detail/Event/e_100443430/wattwandern-mit-hund
DTEND;TZID=Europe/Berlin:20261024T170000
DTSTAMP:20260420T090530Z
DTSTART;TZID=Europe/Berlin:20261024T150000
GEO:53.703854;8.026867
LOCATION:Deich Nähe Hotel ''Upstalsboom''\, \, Wangerland Schillig
ORGANIZER;CN=Wattführergruppe Wangerland:mailto:kontakt@wangerland-wattwand
 ern.de
SEQUENCE:0
SUMMARY:Wattwandern mit Hund
UID:e_100443430_iv22
URL:http://pages.destination.one/de/wangerland/streaming/detail/Event/e_100
 443430/wattwandern-mit-hund
END:VEVENT
BEGIN:VEVENT
CATEGORIES:Wattwanderung
DESCRIPTION:Familienwattwanderung für Hunde und Hundeliebhaber. Dies ist ei
 ne Wattwanderung für alle\, die ihren verträglichen und angeleinten Hund m
 itnehmen wollen. Aber auch ohne Vierbeiner sind alle herzlich willkommen.\
 n\nmehr Informationen unter http://pages.destination.one/de/wangerland/str
 eaming/detail/Event/e_100443430/wattwandern-mit-hund
DTEND;TZID=Europe/Berlin:20261026T173000
DTSTAMP:20260420T090530Z
DTSTART;TZID=Europe/Berlin:20261026T153000
GEO:53.703854;8.026867
LOCATION:Deich Nähe Hotel ''Upstalsboom''\, \, Wangerland Schillig
ORGANIZER;CN=Wattführergruppe Wangerland:mailto:kontakt@wangerland-wattwand
 ern.de
SEQUENCE:0
SUMMARY:Wattwandern mit Hund
UID:e_100443430_iv23
URL:http://pages.destination.one/de/wangerland/streaming/detail/Event/e_100
 443430/wattwandern-mit-hund
END:VEVENT
BEGIN:VTIMEZONE
TZID:Europe/Berlin
X-LIC-LOCATION:Europe/Berlin
BEGIN:DAYLIGHT
DTSTART:19700329T020000
RRULE:FREQ=YEARLY;BYDAY=-1SU;BYMONTH=3
TZNAME:CEST
TZOFFSETFROM:+0100
TZOFFSETTO:+0200
END:DAYLIGHT
BEGIN:STANDARD
DTSTART:19701025T030000
RRULE:FREQ=YEARLY;BYDAY=-1SU;BYMONTH=10
TZNAME:CET
TZOFFSETFROM:+0200
TZOFFSETTO:+0100
END:STANDARD
END:VTIMEZONE
END:VCALENDAR
